BEGIN:VCALENDAR
VERSION:2.0
PRODID:-//Qalipu - ECPv4.5.13//NONSGML v1.0//EN
CALSCALE:GREGORIAN
METHOD:PUBLISH
X-WR-CALNAME:Qalipu
X-ORIGINAL-URL:https://qalipu.ca
X-WR-CALDESC:Events for Qalipu
BEGIN:VEVENT
DTSTART;TZID=UTC-3.5:20190716T210000
DTEND;TZID=UTC-3.5:20190716T230000
DTSTAMP:20260419T175351
CREATED:20190715T123709Z
LAST-MODIFIED:20190715T123709Z
UID:10845-1563310800-1563318000@qalipu.ca
SUMMARY:A Stellar Night with Saturn & Muin - Grenfell Observatory
DESCRIPTION:The ringed planet is at its closest and brightest now\, and right next to the full Moon on 16th. Join us for a short talk about Saturn\, a reading of “Muin and the Seven Hunters”\, space trivia\, and a visit to the Grenfell Observatory. All ages\, free admission. Registration required: \n
URL:https://qalipu.ca/event/a-stellar-night-with-saturn-muin-grenfell-observatory/
LOCATION:20 University Dr.\, Corner Brook\, NL\, A2H 5G4\, Canada
END:VEVENT
END:VCALENDAR