BEGIN:VCALENDAR
VERSION:2.0
PRODID:-//Qalipu - ECPv4.5.13//NONSGML v1.0//EN
CALSCALE:GREGORIAN
METHOD:PUBLISH
X-WR-CALNAME:Qalipu
X-ORIGINAL-URL:https://qalipu.ca
X-WR-CALDESC:Events for Qalipu
BEGIN:VEVENT
DTSTART;TZID=UTC-3.5:20170628T190000
DTEND;TZID=UTC-3.5:20170628T190000
DTSTAMP:20260420T070633
CREATED:20170612T142309Z
LAST-MODIFIED:20170612T142309Z
UID:6925-1498676400-1498676400@qalipu.ca
SUMMARY:A Taste of the Great Outdoors
DESCRIPTION:We’ve all roasted hot dogs and made smores but\, you would be surprised about the culinary delights that can be prepared around an open fire. \nLet Executive Chefs Frank Widmer and Alain Bosse be your guide to exploring the possibilities! \nAccompanied by songs and storytelling by Mi’kmaq Park Interpreter Kevin Barnes and friends\, the Chefs will incorporate Mi’kmaq traditional foods to show you how to create something beautiful in a hands-on\, interactive evening around the campfire. \nJune 28\, 2017 at 7:00 PM\nShallow Bay day use area\, Cow Head (Gros Morne National Park) \nThis event is a partnership between Qalipu First Nation\, Parks Canada and the Gros Morne Institute for Sustainable Tourism.  Everyone is Welcome! \n
URL:https://qalipu.ca/event/a-taste-of-the-great-outdoors/
CATEGORIES:General
ATTACH;FMTTYPE=image/jpeg:https://qalipu.ca/qalipu/wp-content/uploads/2017/06/AdobeStock_139540345.jpeg
END:VEVENT
END:VCALENDAR