BEGIN:VCALENDAR
VERSION:2.0
PRODID:-//Qalipu - ECPv4.5.13//NONSGML v1.0//EN
CALSCALE:GREGORIAN
METHOD:PUBLISH
X-WR-CALNAME:Qalipu
X-ORIGINAL-URL:https://qalipu.ca
X-WR-CALDESC:Events for Qalipu
BEGIN:VEVENT
DTSTART;VALUE=DATE:20160905
DTEND;VALUE=DATE:20160907
DTSTAMP:20260420T021132
CREATED:20160831T174802Z
LAST-MODIFIED:20160831T174802Z
UID:5187-1473033600-1473292799@qalipu.ca
SUMMARY:Aboriginal Student Centre Orientation Activities 2016
DESCRIPTION:
URL:https://qalipu.ca/event/aboriginal-student-centre-orientation-activities-2016/
LOCATION:20 University Dr.\, Corner Brook\, NL\, A2H 5G4\, Canada
CATEGORIES:General
ATTACH;FMTTYPE=image/jpeg:https://qalipu.ca/qalipu/wp-content/uploads/2016/08/ASC-Orientation-Events-2016.jpg
END:VEVENT
END:VCALENDAR