BEGIN:VCALENDAR
VERSION:2.0
PRODID:-//Qalipu - ECPv4.5.13//NONSGML v1.0//EN
CALSCALE:GREGORIAN
METHOD:PUBLISH
X-WR-CALNAME:Qalipu
X-ORIGINAL-URL:https://qalipu.ca
X-WR-CALDESC:Events for Qalipu
BEGIN:VEVENT
DTSTART;TZID=UTC-3.5:20230822T140000
DTEND;TZID=UTC-3.5:20230822T180000
DTSTAMP:20260419T225136
CREATED:20230810T124514Z
LAST-MODIFIED:20230810T124514Z
UID:17484-1692712800-1692727200@qalipu.ca
SUMMARY:Addressing Housing Insecurity and Homelessness (Stephenville)
DESCRIPTION:Every participant will receive a $20 gift card! \nWe’ve partnered with the Rural Development Network to offer this engagement session and we would love to see our Band members there! We’ll be set up for several hours but there is no obligation for you to stay the whole time. Please feel free to drop by for a little while\, or a long while. \nThe purpose of these sessions is to gather information about the housing needs and concerns of our membership. The information we gather will be used to compile statistics and data that will guide us in program creation and assist in accessing much-needed funds. \n
URL:https://qalipu.ca/event/addressing-housing-insecurity-and-homelessness-stephenville/
CATEGORIES:General
ATTACH;FMTTYPE=image/jpeg:https://qalipu.ca/qalipu/wp-content/uploads/2023/08/RDN-Poster-Stephenville-3.0.jpg
END:VEVENT
END:VCALENDAR