BEGIN:VCALENDAR
VERSION:2.0
PRODID:-//Qalipu - ECPv4.5.13//NONSGML v1.0//EN
CALSCALE:GREGORIAN
METHOD:PUBLISH
X-WR-CALNAME:Qalipu
X-ORIGINAL-URL:https://qalipu.ca
X-WR-CALDESC:Events for Qalipu
BEGIN:VEVENT
DTSTART;TZID=UTC-2.5:20210616T193000
DTEND;TZID=UTC-2.5:20210616T193000
DTSTAMP:20260423T205307
CREATED:20210212T171305Z
LAST-MODIFIED:20210212T171412Z
UID:13275-1623871800-1623871800@qalipu.ca
SUMMARY:Adulting 101 - Wrap-up
DESCRIPTION:Register at: https://form.jotform.com/200793766350257 \nMore Information: https://linktr.ee/kaqawejyouth \n
URL:https://qalipu.ca/event/adulting-101-wrap-up/
ORGANIZER;CN="Sabrina%20Muise":MAILTO:muisesabrina@gmail.com
END:VEVENT
END:VCALENDAR