BEGIN:VCALENDAR
VERSION:2.0
PRODID:-//Qalipu - ECPv4.5.13//NONSGML v1.0//EN
CALSCALE:GREGORIAN
METHOD:PUBLISH
X-WR-CALNAME:Qalipu
X-ORIGINAL-URL:https://qalipu.ca
X-WR-CALDESC:Events for Qalipu
BEGIN:VEVENT
DTSTART;TZID=UTC-3.5:20171216T103000
DTEND;TZID=UTC-3.5:20171216T150000
DTSTAMP:20260419T195843
CREATED:20170529T173730Z
LAST-MODIFIED:20170529T173730Z
UID:6790-1513420200-1513436400@qalipu.ca
SUMMARY:Ancestral Voices Youth Multicultural Workshops - Celebrating Culture
DESCRIPTION:
URL:https://qalipu.ca/event/ancestral-voices-youth-multicultural-workshops-celebrating-culture/
LOCATION:811 Oceanview Drive\, Degrau\, NL\, A0N 1T1\, Canada
CATEGORIES:General
ATTACH;FMTTYPE=image/jpeg:https://qalipu.ca/qalipu/wp-content/uploads/2017/05/Ancestral-Voices.jpg
END:VEVENT
END:VCALENDAR