BEGIN:VCALENDAR
VERSION:2.0
PRODID:-//Qalipu - ECPv4.5.13//NONSGML v1.0//EN
CALSCALE:GREGORIAN
METHOD:PUBLISH
X-WR-CALNAME:Qalipu
X-ORIGINAL-URL:https://qalipu.ca
X-WR-CALDESC:Events for Qalipu
BEGIN:VEVENT
DTSTART;TZID=UTC-3.5:20170923T103000
DTEND;TZID=UTC-3.5:20170923T150000
DTSTAMP:20260420T043115
CREATED:20170529T172020Z
LAST-MODIFIED:20170915T134917Z
UID:6778-1506162600-1506178800@qalipu.ca
SUMMARY:Ancestral Voices Youth Multicultural Workshops - Our Language
DESCRIPTION:
URL:https://qalipu.ca/event/ancestral-voices-youth-multicultural-workshops-our-language/
LOCATION:811 Oceanview Drive\, Degrau\, NL\, A0N 1T1\, Canada
CATEGORIES:General
ATTACH;FMTTYPE=image/jpeg:https://qalipu.ca/qalipu/wp-content/uploads/2017/05/WORKSHOP-1-OUR-LANGUAGE.jpg
END:VEVENT
END:VCALENDAR