BEGIN:VCALENDAR
VERSION:2.0
PRODID:-//Qalipu - ECPv4.5.13//NONSGML v1.0//EN
CALSCALE:GREGORIAN
METHOD:PUBLISH
X-WR-CALNAME:Qalipu
X-ORIGINAL-URL:https://qalipu.ca
X-WR-CALDESC:Events for Qalipu
BEGIN:VEVENT
DTSTART;TZID=UTC-3.5:20170909T103000
DTEND;TZID=UTC-3.5:20170909T150000
DTSTAMP:20260420T000641
CREATED:20170529T171435Z
LAST-MODIFIED:20170529T174021Z
UID:6773-1504953000-1504969200@qalipu.ca
SUMMARY:Ancestral Voices Youth Multicultural Workshops - What is First Nation
DESCRIPTION:
URL:https://qalipu.ca/event/ancestral-voices-youth-multicultural-workshops-what-is-first-nation/
CATEGORIES:General
ATTACH;FMTTYPE=image/jpeg:https://qalipu.ca/qalipu/wp-content/uploads/2017/05/Ancestral-Voices.jpg
END:VEVENT
END:VCALENDAR