BEGIN:VCALENDAR
VERSION:2.0
PRODID:-//Qalipu - ECPv4.5.13//NONSGML v1.0//EN
CALSCALE:GREGORIAN
METHOD:PUBLISH
X-WR-CALNAME:Qalipu
X-ORIGINAL-URL:https://qalipu.ca
X-WR-CALDESC:Events for Qalipu
BEGIN:VEVENT
DTSTART;TZID=UTC-3.5:20180127T190000
DTEND;TZID=UTC-3.5:20180127T190000
DTSTAMP:20260420T051939
CREATED:20180125T142546Z
LAST-MODIFIED:20180125T142546Z
UID:7906-1517079600-1517079600@qalipu.ca
SUMMARY:Angela Brown in Concert - People of the Dawn
DESCRIPTION:https://www.facebook.com/events/143744436333676/ \n
URL:https://qalipu.ca/event/angela-brown-in-concert-people-of-the-dawn/
LOCATION:329 Main Street\, St. George's\, Newfoundland and Labrador\, Canada
CATEGORIES:General
END:VEVENT
END:VCALENDAR