BEGIN:VCALENDAR
VERSION:2.0
PRODID:-//Qalipu - ECPv4.5.13//NONSGML v1.0//EN
CALSCALE:GREGORIAN
METHOD:PUBLISH
X-WR-CALNAME:Qalipu
X-ORIGINAL-URL:https://qalipu.ca
X-WR-CALDESC:Events for Qalipu
BEGIN:VEVENT
DTSTART;VALUE=DATE:20220708
DTEND;VALUE=DATE:20220710
DTSTAMP:20260423T105650
CREATED:20220628T111739Z
LAST-MODIFIED:20220704T150751Z
UID:15492-1657238400-1657497599@qalipu.ca
SUMMARY:Annual Bay St. George Powwow – Flat Bay Powwow Grounds
DESCRIPTION:\nAnnual Bay St. George Powwow – July 8-10 2022 | Facebook \n
URL:https://qalipu.ca/event/annual-bay-st-george-powwow-flat-bay-powwow-grounds/
END:VEVENT
END:VCALENDAR