BEGIN:VCALENDAR
VERSION:2.0
PRODID:-//Qalipu - ECPv4.5.13//NONSGML v1.0//EN
CALSCALE:GREGORIAN
METHOD:PUBLISH
X-WR-CALNAME:Qalipu
X-ORIGINAL-URL:https://qalipu.ca
X-WR-CALDESC:Events for Qalipu
BEGIN:VEVENT
DTSTART;TZID=UTC-3.5:20180922T130000
DTEND;TZID=UTC-3.5:20180922T130000
DTSTAMP:20260419T170721
CREATED:20180824T103554Z
LAST-MODIFIED:20180824T103554Z
UID:9318-1537621200-1537621200@qalipu.ca
SUMMARY:Annual General Meeting - People of the Dawn Indigenous Friendship Centre
DESCRIPTION:
URL:https://qalipu.ca/event/annual-general-meeting-people-of-the-dawn-indigenous-friendship-centre/
LOCATION:329 Main Street\, St. George's\, Newfoundland and Labrador\, Canada
CATEGORIES:General
ATTACH;FMTTYPE=image/jpeg:https://qalipu.ca/qalipu/wp-content/uploads/2018/08/PDIFC-Aunnual-General-Meeting.jpg
END:VEVENT
END:VCALENDAR