BEGIN:VCALENDAR
VERSION:2.0
PRODID:-//Qalipu - ECPv4.5.13//NONSGML v1.0//EN
CALSCALE:GREGORIAN
METHOD:PUBLISH
X-WR-CALNAME:Qalipu
X-ORIGINAL-URL:https://qalipu.ca
X-WR-CALDESC:Events for Qalipu
BEGIN:VEVENT
DTSTART;TZID=UTC-2.5:20161001T190000
DTEND;TZID=UTC-2.5:20161001T190000
DTSTAMP:20260420T015621
CREATED:20160906T165513Z
LAST-MODIFIED:20160928T121824Z
UID:5211-1475348400-1475348400@qalipu.ca
SUMMARY:Art Exhibition: Expressions of Qalipu Land
DESCRIPTION:Mi’kmaq artists Marcus Gosse and Scott Butt will prepare an exhibition at the Arts and Culture Centre in Stephenville titled “Expressions of Qalipu Land”.  The show opens on October 1 at 7:00 PM.  The first 25 visitors will receive a print from The Mi’kmaq Utopia Collection titled Finding my Way. \n
URL:https://qalipu.ca/event/art-exhibition-expressions-of-qalipu-land/
LOCATION:380 Massachusetts Dr\, Stephenville\, NL\, Canada
CATEGORIES:General
ATTACH;FMTTYPE=image/jpeg:https://qalipu.ca/qalipu/wp-content/uploads/2016/09/Expressions-of-Qalipu-Land-Art-Show.jpg
END:VEVENT
END:VCALENDAR