BEGIN:VCALENDAR
VERSION:2.0
PRODID:-//Qalipu - ECPv4.5.13//NONSGML v1.0//EN
CALSCALE:GREGORIAN
METHOD:PUBLISH
X-WR-CALNAME:Qalipu
X-ORIGINAL-URL:https://qalipu.ca
X-WR-CALDESC:Events for Qalipu
BEGIN:VEVENT
DTSTART;TZID=UTC-2.5:20161023T150000
DTEND;TZID=UTC-2.5:20161023T200000
DTSTAMP:20260419T161150
CREATED:20161014T134212Z
LAST-MODIFIED:20161014T134704Z
UID:5373-1477234800-1477252800@qalipu.ca
SUMMARY:Benefit Concert - Mackenzie Stone
DESCRIPTION:Click here to donate to mackenzie’s journey (Go Fund Me) \n
URL:https://qalipu.ca/event/benefit-concert-mackenzie-stone/
CATEGORIES:General
ATTACH;FMTTYPE=image/jpeg:https://qalipu.ca/qalipu/wp-content/uploads/2016/10/Stone.jpg
END:VEVENT
END:VCALENDAR