BEGIN:VCALENDAR
VERSION:2.0
PRODID:-//Qalipu - ECPv4.5.13//NONSGML v1.0//EN
CALSCALE:GREGORIAN
METHOD:PUBLISH
X-WR-CALNAME:Qalipu
X-ORIGINAL-URL:https://qalipu.ca
X-WR-CALDESC:Events for Qalipu
BEGIN:VEVENT
DTSTART;TZID=UTC-3.5:20181125T183000
DTEND;TZID=UTC-3.5:20181125T183000
DTSTAMP:20260420T045816
CREATED:20181120T160710Z
LAST-MODIFIED:20181120T160710Z
UID:9821-1543170600-1543170600@qalipu.ca
SUMMARY:Benoit First Nation - Annual Assembly
DESCRIPTION:
URL:https://qalipu.ca/event/benoit-first-nation-annual-assembly/
LOCATION:811 Oceanview Drive\, Degrau\, NL\, A0N 1T1\, Canada
CATEGORIES:General
ATTACH;FMTTYPE=image/jpeg:https://qalipu.ca/qalipu/wp-content/uploads/2018/11/2018-Nov-25-BFN-Annual-Assembly.jpg
END:VEVENT
END:VCALENDAR