BEGIN:VCALENDAR
VERSION:2.0
PRODID:-//Qalipu - ECPv4.5.13//NONSGML v1.0//EN
CALSCALE:GREGORIAN
METHOD:PUBLISH
X-WR-CALNAME:Qalipu
X-ORIGINAL-URL:https://qalipu.ca
X-WR-CALDESC:Events for Qalipu
BEGIN:VEVENT
DTSTART;TZID=UTC-3.5:20190124T140000
DTEND;TZID=UTC-3.5:20190124T150000
DTSTAMP:20260420T035016
CREATED:20181214T123232Z
LAST-MODIFIED:20181214T123232Z
UID:10011-1548338400-1548342000@qalipu.ca
SUMMARY:Black Bear Program\, Incredible Opportunity for Youth Aged 16+
DESCRIPTION:Have we got an opportunity for you! \nThe Black Bear Program is a summer employment program for indigenous youth\, age 16+\, that combines culture and teachings with basic military training.  The six-week program takes place from early July to mid-August at 5th Canadian Division Training Centre located in Oromocto\, NB. \nAnd get this\, participants get paid $4\,200! That’s a summer job you won’t find anywhere else.  Meals and accommodations are provided while at the camp\, and your transportation to and from Oromocto is covered too. \nIf you’re ready for a challenging experience that develops hands-on skills\, encourages teamwork\, improves physical fitness and promotes cultural awareness\, get in touch with us to register for an upcoming information session. \nPlease contact Employment Coordinator Vickie MacDonald at vmacdonald@qalipu.ca \nFor more information\, visit this link  http://www.army-armee.forces.gc.ca/en/5-cdn-div-training-centre/aboriginal-programs.page \n  \n\n\n\nBlack Bear Program Information Sessions\n\n\nLocation\nDate\nTime\n\n\nQalipu Community Room at 1 Church Street\, Corner Brook\nJanuary 21\, 2019\n6:00-7:00 PM\n\n\nPeople of the Dawn Indigenous Friendship Centre\, 90 Main Street\, Stephenville\nJanuary 22\, 2019\n6:00-7:00 PM\n\n\nKtaqmkuk Mi’kmaq Museum\, 183 Main Street\, St. George’s\nJanuary 23\, 2019\n6:00-7:00 PM\n\n\nSinbad Hotel Boardroom\, 133 Bennett Drive\, Gander\nJanuary 24\, 2019\n2:00-3:00 PM\n\n\nQalipu Community Room\, 28 Hardy Avenue\, Grand Falls-Windsor\nJanuary 24\, 2019\n6:00-7:00 PM\n\n\n\n
URL:https://qalipu.ca/event/black-bear-program-incredible-opportunity-for-youth-aged-16-4/
LOCATION:133 Bennett Dr\, Gander\, NL\, A1V 1X3\, Canada
CATEGORIES:General
END:VEVENT
END:VCALENDAR