BEGIN:VCALENDAR
VERSION:2.0
PRODID:-//Qalipu - ECPv4.5.13//NONSGML v1.0//EN
CALSCALE:GREGORIAN
METHOD:PUBLISH
X-WR-CALNAME:Qalipu
X-ORIGINAL-URL:https://qalipu.ca
X-WR-CALDESC:Events for Qalipu
BEGIN:VEVENT
DTSTART;VALUE=DATE:20250225
DTEND;VALUE=DATE:20250225
DTSTAMP:20260421T000830
CREATED:20250212T170018Z
LAST-MODIFIED:20250212T170018Z
UID:19702-1740441600-1740527999@qalipu.ca
SUMMARY:Calibre Gold Mine Open House - Corner Brook
DESCRIPTION: \n
URL:https://qalipu.ca/event/calibre-gold-mine-open-house-corner-brook/
LOCATION:1 Canada Games Place\, Corner Brook\, NL\, A2H 6C9\, Canada
END:VEVENT
END:VCALENDAR