BEGIN:VCALENDAR
VERSION:2.0
PRODID:-//Qalipu - ECPv4.5.13//NONSGML v1.0//EN
CALSCALE:GREGORIAN
METHOD:PUBLISH
X-WR-CALNAME:Qalipu
X-ORIGINAL-URL:https://qalipu.ca
X-WR-CALDESC:Events for Qalipu
BEGIN:VEVENT
DTSTART;TZID=UTC-3.5:20170327T190000
DTEND;TZID=UTC-3.5:20170327T210000
DTSTAMP:20260420T004754
CREATED:20170317T144709Z
LAST-MODIFIED:20170320T130359Z
UID:6414-1490641200-1490648400@qalipu.ca
SUMMARY:Central Ward Meeting With Central Vice Chief Joe Bouzanne
DESCRIPTION:Location: \nCollege of North Atlantic\nGrand Falls-Windsor\nLecture Theater\nRoom 308\nDate: Monday\, March 27\nTime:  7:00 to 9:00 pm. \n
URL:https://qalipu.ca/event/central-ward-meeting-with-central-vice-chief-joe-bouzanne/
LOCATION:5 Cromer Ave\, Grand Falls-Windsor\, NL\, A2A 1X3\, Canada
CATEGORIES:Ward Meetings
ATTACH;FMTTYPE=image/jpeg:https://qalipu.ca/qalipu/wp-content/uploads/2016/08/meeting.jpeg
END:VEVENT
END:VCALENDAR