BEGIN:VCALENDAR
VERSION:2.0
PRODID:-//Qalipu - ECPv4.5.13//NONSGML v1.0//EN
CALSCALE:GREGORIAN
METHOD:PUBLISH
X-WR-CALNAME:Qalipu
X-ORIGINAL-URL:https://qalipu.ca
X-WR-CALDESC:Events for Qalipu
BEGIN:VEVENT
DTSTART;TZID=UTC-2.5:20161119T090000
DTEND;TZID=UTC-2.5:20161119T160000
DTSTAMP:20260419T203431
CREATED:20160930T135140Z
LAST-MODIFIED:20160930T135140Z
UID:5301-1479546000-1479571200@qalipu.ca
SUMMARY:Christmas Craft Fair Fundraiser
DESCRIPTION:
URL:https://qalipu.ca/event/christmas-craft-fair-fundraiser/
CATEGORIES:General
ATTACH;FMTTYPE=image/jpeg:https://qalipu.ca/qalipu/wp-content/uploads/2016/09/Craft-Fair-Powwow.jpg
END:VEVENT
END:VCALENDAR