BEGIN:VCALENDAR
VERSION:2.0
PRODID:-//Qalipu - ECPv4.5.13//NONSGML v1.0//EN
CALSCALE:GREGORIAN
METHOD:PUBLISH
X-WR-CALNAME:Qalipu
X-ORIGINAL-URL:https://qalipu.ca
X-WR-CALDESC:Events for Qalipu
BEGIN:VEVENT
DTSTART;VALUE=DATE:20160718
DTEND;VALUE=DATE:20160720
DTSTAMP:20260420T072901
CREATED:20160706T192802Z
LAST-MODIFIED:20160711T134852Z
UID:4943-1468800000-1469059199@qalipu.ca
SUMMARY:Clyde Drew - Carver
DESCRIPTION:July 18-20 Mi’kmaq carver Clyde Drew will be on hand at the Center showcasing his bone and wood carvings. \nThis event will be located at the Boyd’s Cove Beothuk Interpretation Centre \n
URL:https://qalipu.ca/event/clyde-drew-carver/
LOCATION:Boyd's Cove\, NL\, A0G 1G0\, Canada
CATEGORIES:General
END:VEVENT
END:VCALENDAR