BEGIN:VCALENDAR
VERSION:2.0
PRODID:-//Qalipu - ECPv4.5.13//NONSGML v1.0//EN
CALSCALE:GREGORIAN
METHOD:PUBLISH
X-WR-CALNAME:Qalipu
X-ORIGINAL-URL:https://qalipu.ca
X-WR-CALDESC:Events for Qalipu
BEGIN:VEVENT
DTSTART;TZID=UTC-2.5:20260321T120000
DTEND;TZID=UTC-2.5:20260321T160000
DTSTAMP:20260424T065733
CREATED:20260310T175621Z
LAST-MODIFIED:20260310T175621Z
UID:21005-1774094400-1774108800@qalipu.ca
SUMMARY:Community Arts Drop In Session
DESCRIPTION:🎨 Community Arts Drop-In \nJoin QFN’s Mental Wellness Team for a relaxed arts session in the Qalipu Community Room at 1 Church Street\, Corner Brook on Saturday\, March 21. \nDrop in anytime between 12:00 PM and 4:00 PM — no registration required. \nAll are welcome. Snacks and craft supplies are provided. This session will focus on Easter-themed crafts. \n
URL:https://qalipu.ca/event/community-arts-drop-in-session/
LOCATION:1 Church Street\, Corner Brook\, NL\, A2H 2Z4\, Canada
CATEGORIES:General
END:VEVENT
END:VCALENDAR