BEGIN:VCALENDAR
VERSION:2.0
PRODID:-//Qalipu - ECPv4.5.13//NONSGML v1.0//EN
CALSCALE:GREGORIAN
METHOD:PUBLISH
X-WR-CALNAME:Qalipu
X-ORIGINAL-URL:https://qalipu.ca
X-WR-CALDESC:Events for Qalipu
BEGIN:VEVENT
DTSTART;TZID=UTC-2.5:20160905T140000
DTEND;TZID=UTC-2.5:20160905T160000
DTSTAMP:20260420T073739
CREATED:20160831T172718Z
LAST-MODIFIED:20160831T172718Z
UID:5185-1473084000-1473091200@qalipu.ca
SUMMARY:Community Drum and Powwow Showcase
DESCRIPTION:
URL:https://qalipu.ca/event/community-drum-and-powwow-showcase/
LOCATION:20 University Dr.\, Corner Brook\, NL\, A2H 5G4\, Canada
CATEGORIES:General
ATTACH;FMTTYPE=image/jpeg:https://qalipu.ca/qalipu/wp-content/uploads/2016/08/powwow-showcase-poster.jpg
END:VEVENT
END:VCALENDAR