BEGIN:VCALENDAR
VERSION:2.0
PRODID:-//Qalipu - ECPv4.5.13//NONSGML v1.0//EN
CALSCALE:GREGORIAN
METHOD:PUBLISH
X-WR-CALNAME:Qalipu
X-ORIGINAL-URL:https://qalipu.ca
X-WR-CALDESC:Events for Qalipu
BEGIN:VEVENT
DTSTART;TZID=UTC-3.5:20171128T190000
DTEND;TZID=UTC-3.5:20171128T210000
DTSTAMP:20260420T050324
CREATED:20171116T182843Z
LAST-MODIFIED:20171116T182843Z
UID:7600-1511895600-1511902800@qalipu.ca
SUMMARY:Corner Brook Ward Meeting
DESCRIPTION:Community Room\, 1 Church Street\, on Tuesday\, November 28\, 2017 from 7-9 pm. \n
URL:https://qalipu.ca/event/corner-brook-ward-meeting-2/
LOCATION:1 Church Street\, Corner Brook\, NL\, A2H 2Z4\, Canada
CATEGORIES:Ward Meetings
ATTACH;FMTTYPE=image/jpeg:https://qalipu.ca/qalipu/wp-content/uploads/2016/08/meeting.jpeg
END:VEVENT
END:VCALENDAR