BEGIN:VCALENDAR
VERSION:2.0
PRODID:-//Qalipu - ECPv4.5.13//NONSGML v1.0//EN
CALSCALE:GREGORIAN
METHOD:PUBLISH
X-WR-CALNAME:Qalipu
X-ORIGINAL-URL:https://qalipu.ca
X-WR-CALDESC:Events for Qalipu
BEGIN:VEVENT
DTSTART;TZID=UTC-3.5:20220608T190000
DTEND;TZID=UTC-3.5:20220608T190000
DTSTAMP:20260423T153432
CREATED:20220603T123445Z
LAST-MODIFIED:20220603T123445Z
UID:15455-1654714800-1654714800@qalipu.ca
SUMMARY:Corner Brook Ward Meeting
DESCRIPTION:
URL:https://qalipu.ca/event/corner-brook-ward-meeting-4/
LOCATION:183 Main Street\, Irishtown-Summerside\, NL\, A2H 4A1\, Canada
CATEGORIES:Ward Meetings
END:VEVENT
END:VCALENDAR