BEGIN:VCALENDAR
VERSION:2.0
PRODID:-//Qalipu - ECPv4.5.13//NONSGML v1.0//EN
CALSCALE:GREGORIAN
METHOD:PUBLISH
X-WR-CALNAME:Qalipu
X-ORIGINAL-URL:https://qalipu.ca
X-WR-CALDESC:Events for Qalipu
BEGIN:VEVENT
DTSTART;TZID=UTC-3.5:20220908T190000
DTEND;TZID=UTC-3.5:20220908T210000
DTSTAMP:20260424T040136
CREATED:20220831T130912Z
LAST-MODIFIED:20220831T130912Z
UID:15668-1662663600-1662670800@qalipu.ca
SUMMARY:Corner Brook Ward Meeting
DESCRIPTION:
URL:https://qalipu.ca/event/corner-brook-ward-meeting-5/
LOCATION:1 Church Street\, Corner Brook\, NL\, A2H 2Z4\, Canada
END:VEVENT
END:VCALENDAR