BEGIN:VCALENDAR
VERSION:2.0
PRODID:-//Qalipu - ECPv4.5.13//NONSGML v1.0//EN
CALSCALE:GREGORIAN
METHOD:PUBLISH
X-WR-CALNAME:Qalipu
X-ORIGINAL-URL:https://qalipu.ca
X-WR-CALDESC:Events for Qalipu
BEGIN:VEVENT
DTSTART;TZID=UTC-3.5:20190305T190000
DTEND;TZID=UTC-3.5:20190305T190000
DTSTAMP:20260419T175004
CREATED:20190214T143952Z
LAST-MODIFIED:20190214T143952Z
UID:10228-1551812400-1551812400@qalipu.ca
SUMMARY:Corner Brook Ward Meeting March 5\, 2019
DESCRIPTION:
URL:https://qalipu.ca/event/corner-brook-ward-meeting-march-5-2019/
LOCATION:1 Church Street\, Corner Brook\, NL\, A2H 2Z4\, Canada
CATEGORIES:Ward Meetings
END:VEVENT
END:VCALENDAR