BEGIN:VCALENDAR
VERSION:2.0
PRODID:-//Qalipu - ECPv4.5.13//NONSGML v1.0//EN
CALSCALE:GREGORIAN
METHOD:PUBLISH
X-WR-CALNAME:Qalipu
X-ORIGINAL-URL:https://qalipu.ca
X-WR-CALDESC:Events for Qalipu
BEGIN:VEVENT
DTSTART;TZID=UTC-2.5:20161201T183000
DTEND;TZID=UTC-2.5:20161201T203000
DTSTAMP:20260420T041346
CREATED:20161116T145533Z
LAST-MODIFIED:20161116T145533Z
UID:5624-1480617000-1480624200@qalipu.ca
SUMMARY:Corner Brook Ward Meeting
DESCRIPTION:Corner Brook Ward Meeting \nDecember 1\, 2016 \n6:30-8:30 PM \nCivic Centre\, Meeting Room #3 \n
URL:https://qalipu.ca/event/corner-brook-ward-meeting/
LOCATION:1 Canada Games Place\, Corner Brook\, NL\, A2H 6C9\, Canada
CATEGORIES:Ward Meetings
ATTACH;FMTTYPE=image/jpeg:https://qalipu.ca/qalipu/wp-content/uploads/2016/08/meeting.jpeg
END:VEVENT
END:VCALENDAR