BEGIN:VCALENDAR
VERSION:2.0
PRODID:-//Qalipu - ECPv4.5.13//NONSGML v1.0//EN
CALSCALE:GREGORIAN
METHOD:PUBLISH
X-WR-CALNAME:Qalipu
X-ORIGINAL-URL:https://qalipu.ca
X-WR-CALDESC:Events for Qalipu
BEGIN:VEVENT
DTSTART;TZID=UTC-3.5:20180306T080000
DTEND;TZID=UTC-3.5:20180306T170000
DTSTAMP:20260419T133355
CREATED:20180306T125231Z
LAST-MODIFIED:20180306T125305Z
UID:8224-1520323200-1520355600@qalipu.ca
SUMMARY:CornerBrook Aboriginal Women’s Association - Drumming
DESCRIPTION:March 6 6pm\nDrumming for all: Children\, women and men Do not have to own a drum.\n6 pm Bennett Hall West Street \nFollowing drumming\, a women’s meeting at 7pm. \n
URL:https://qalipu.ca/event/cornerbrook-aboriginal-womens-association-drumming/
CATEGORIES:General
END:VEVENT
END:VCALENDAR