BEGIN:VCALENDAR
VERSION:2.0
PRODID:-//Qalipu - ECPv4.5.13//NONSGML v1.0//EN
CALSCALE:GREGORIAN
METHOD:PUBLISH
X-WR-CALNAME:Qalipu
X-ORIGINAL-URL:https://qalipu.ca
X-WR-CALDESC:Events for Qalipu
BEGIN:VEVENT
DTSTART;TZID=UTC-3.5:20221120T090000
DTEND;TZID=UTC-3.5:20221120T090000
DTSTAMP:20260424T010108
CREATED:20221109T162609Z
LAST-MODIFIED:20221109T162609Z
UID:16023-1668934800-1668934800@qalipu.ca
SUMMARY:Council Meeting
DESCRIPTION:The next regular meeting of the Chief and Council will take place on November 20th at 9:00 am at the Albatross Hotel in Gander. \nMembers are invited to view the meeting by logging into their ginu membership profile where the meeting will be live-streamed. \n
URL:https://qalipu.ca/event/council-meeting-4/
LOCATION:114 Trans-Canada Highway\, Gander\, NL\, A1V 1W\, Canada
CATEGORIES:Council Meeting
ATTACH;FMTTYPE=image/png:https://qalipu.ca/qalipu/wp-content/uploads/2022/11/Meeting-of-Chief-and-Council-1.png
END:VEVENT
END:VCALENDAR