BEGIN:VCALENDAR
VERSION:2.0
PRODID:-//Qalipu - ECPv4.5.13//NONSGML v1.0//EN
CALSCALE:GREGORIAN
METHOD:PUBLISH
X-WR-CALNAME:Qalipu
X-ORIGINAL-URL:https://qalipu.ca
X-WR-CALDESC:Events for Qalipu
BEGIN:VEVENT
DTSTART;TZID=UTC-3.5:20170826T090000
DTEND;TZID=UTC-3.5:20170826T090000
DTSTAMP:20260419T231714
CREATED:20170810T130245Z
LAST-MODIFIED:20180716T124215Z
UID:7163-1503738000-1503738000@qalipu.ca
SUMMARY:Council Meeting August 26
DESCRIPTION:The next regular meeting of Council will be held on August 26 at 9:00 AM in Corner Brook at the Qalipu Community Room.  To register please contact Mabel MacDonald at 634-5111 or email mmacdonald@qalipu.ca \n
URL:https://qalipu.ca/event/council-meeting-august-26/
CATEGORIES:Council Meeting
ATTACH;FMTTYPE=image/jpeg:https://qalipu.ca/qalipu/wp-content/uploads/2016/08/meeting.jpeg
END:VEVENT
END:VCALENDAR