BEGIN:VCALENDAR
VERSION:2.0
PRODID:-//Qalipu - ECPv4.5.13//NONSGML v1.0//EN
CALSCALE:GREGORIAN
METHOD:PUBLISH
X-WR-CALNAME:Qalipu
X-ORIGINAL-URL:https://qalipu.ca
X-WR-CALDESC:Events for Qalipu
BEGIN:VEVENT
DTSTART;TZID=UTC-2.5:20161015T093000
DTEND;TZID=UTC-2.5:20161015T093000
DTSTAMP:20260420T011522
CREATED:20160906T131924Z
LAST-MODIFIED:20180716T124247Z
UID:5206-1476523800-1476523800@qalipu.ca
SUMMARY:Council Meeting - Corner Brook
DESCRIPTION:Meetings of Chief and Council are open to all members of the Band.  Please help us plan for enough seating and refreshments by letting us know that you are coming.  Please contact Mabel MacDonald at 634-5111 or email mmacdonald@qalipu.ca \n
URL:https://qalipu.ca/event/council-meeting-corner-brook/
LOCATION:1 Church Street\, Corner Brook\, NL\, A2H 2Z4\, Canada
CATEGORIES:Council Meeting
END:VEVENT
END:VCALENDAR