BEGIN:VCALENDAR
VERSION:2.0
PRODID:-//Qalipu - ECPv4.5.13//NONSGML v1.0//EN
CALSCALE:GREGORIAN
METHOD:PUBLISH
X-WR-CALNAME:Qalipu
X-ORIGINAL-URL:https://qalipu.ca
X-WR-CALDESC:Events for Qalipu
BEGIN:VEVENT
DTSTART;TZID=UTC-3.5:20230211T093000
DTEND;TZID=UTC-3.5:20230211T093000
DTSTAMP:20260424T174557
CREATED:20230123T174006Z
LAST-MODIFIED:20230123T174006Z
UID:16336-1676107800-1676107800@qalipu.ca
SUMMARY:Council Meeting - February 11\, 2023
DESCRIPTION:The next regular meeting of the Chief and Council will take place on February 11 in Corner Brook in the Community Room at 1 Church Street. The meeting will begin at 9:30 am. Band members are welcome to attend and can pre-register by contacting Suzanne at 634-5111. \nThis meeting will also be streamed from the ginu membership portal. \n
URL:https://qalipu.ca/event/council-meeting-february-11-2023/
LOCATION:1 Church Street\, Corner Brook\, NL\, A2H 2Z4\, Canada
CATEGORIES:Council Meeting
ATTACH;FMTTYPE=image/png:https://qalipu.ca/qalipu/wp-content/uploads/2023/01/Meeting-of-Chief-and-Council-1.png
END:VEVENT
END:VCALENDAR