BEGIN:VCALENDAR
VERSION:2.0
PRODID:-//Qalipu - ECPv4.5.13//NONSGML v1.0//EN
CALSCALE:GREGORIAN
METHOD:PUBLISH
X-WR-CALNAME:Qalipu
X-ORIGINAL-URL:https://qalipu.ca
X-WR-CALDESC:Events for Qalipu
BEGIN:VEVENT
DTSTART;TZID=UTC-3.5:20180316T090000
DTEND;TZID=UTC-3.5:20180316T090000
DTSTAMP:20260419T144020
CREATED:20180221T181059Z
LAST-MODIFIED:20180716T124300Z
UID:8172-1521190800-1521190800@qalipu.ca
SUMMARY:Council Meeting - March 16 2018
DESCRIPTION:The next Council meeting will be held on Friday\, March 16\, 2018 beginning at 9 am. in the Qalipu Community Room in Corner Brook. To register please contact Mabel MacDonald at 634-5111 or email mmacdonald@qalipu.ca \n
URL:https://qalipu.ca/event/council-meeting-march-16-2018/
LOCATION:1 Church Street\, Corner Brook\, NL\, A2H 2Z4\, Canada
CATEGORIES:Council Meeting
ATTACH;FMTTYPE=image/jpeg:https://qalipu.ca/qalipu/wp-content/uploads/2016/08/meeting.jpeg
END:VEVENT
END:VCALENDAR