BEGIN:VCALENDAR
VERSION:2.0
PRODID:-//Qalipu - ECPv4.5.13//NONSGML v1.0//EN
CALSCALE:GREGORIAN
METHOD:PUBLISH
X-WR-CALNAME:Qalipu
X-ORIGINAL-URL:https://qalipu.ca
X-WR-CALDESC:Events for Qalipu
BEGIN:VEVENT
DTSTART;TZID=UTC-3.5:20180120T130000
DTEND;TZID=UTC-3.5:20180120T130000
DTSTAMP:20260419T195514
CREATED:20180105T151025Z
LAST-MODIFIED:20180716T124308Z
UID:7765-1516453200-1516453200@qalipu.ca
SUMMARY:Qalipu Council Meeting
DESCRIPTION:
URL:https://qalipu.ca/event/council-meeting-saturday-january-20-2018/
LOCATION:44 Queen St.\, Stephenville\, NL\, A2N 2M5\, Canada
CATEGORIES:Council Meeting
ATTACH;FMTTYPE=image/jpeg:https://qalipu.ca/qalipu/wp-content/uploads/2016/08/meeting.jpeg
END:VEVENT
END:VCALENDAR