BEGIN:VCALENDAR
VERSION:2.0
PRODID:-//Qalipu - ECPv4.5.13//NONSGML v1.0//EN
CALSCALE:GREGORIAN
METHOD:PUBLISH
X-WR-CALNAME:Qalipu
X-ORIGINAL-URL:https://qalipu.ca
X-WR-CALDESC:Events for Qalipu
BEGIN:VEVENT
DTSTART;TZID=UTC-3.5:20191116T090000
DTEND;TZID=UTC-3.5:20191116T090000
DTSTAMP:20260419T165615
CREATED:20191029T165814Z
LAST-MODIFIED:20191104T114843Z
UID:11270-1573894800-1573894800@qalipu.ca
SUMMARY:Council Meeting
DESCRIPTION:The next meeting of Council will be held at 9 am on Saturday\, November 16\, 2019 in the Qalipu Community Room at 1 Church Street\, Corner Brook. \nTo register\, please contact Tina Diamond at 634-5111 or email council@qalipu.ca with your Full Name and Band Reg #. \n
URL:https://qalipu.ca/event/council-meeting/
LOCATION:1 Church Street\, Corner Brook\, NL\, A2H 2Z4\, Canada
CATEGORIES:Council Meeting
END:VEVENT
END:VCALENDAR