BEGIN:VCALENDAR
VERSION:2.0
PRODID:-//Qalipu - ECPv4.5.13//NONSGML v1.0//EN
CALSCALE:GREGORIAN
METHOD:PUBLISH
X-WR-CALNAME:Qalipu
X-ORIGINAL-URL:https://qalipu.ca
X-WR-CALDESC:Events for Qalipu
BEGIN:VEVENT
DTSTART;VALUE=DATE:20190223
DTEND;VALUE=DATE:20190223
DTSTAMP:20260419T140336
CREATED:20190111T175716Z
LAST-MODIFIED:20190111T175716Z
UID:10096-1550880000-1550966399@qalipu.ca
SUMMARY:Crafting A Connection Cultural Workshop Series - Ji'kmaqn
DESCRIPTION:
URL:https://qalipu.ca/event/crafting-a-connection-cultural-workshop-series-jikmaqn/
CATEGORIES:General
ATTACH;FMTTYPE=image/jpeg:https://qalipu.ca/qalipu/wp-content/uploads/2019/01/Cultural-Workshop-Series.jpg
END:VEVENT
END:VCALENDAR