BEGIN:VCALENDAR
VERSION:2.0
PRODID:-//Qalipu - ECPv4.5.13//NONSGML v1.0//EN
CALSCALE:GREGORIAN
METHOD:PUBLISH
X-WR-CALNAME:Qalipu
X-ORIGINAL-URL:https://qalipu.ca
X-WR-CALDESC:Events for Qalipu
BEGIN:VEVENT
DTSTART;TZID=UTC-3.5:20170828T100000
DTEND;TZID=UTC-3.5:20170831T160000
DTSTAMP:20260419T183533
CREATED:20170810T124729Z
LAST-MODIFIED:20170810T124729Z
UID:7155-1503914400-1504195200@qalipu.ca
SUMMARY:Dancers and Drummers of the New Dawn
DESCRIPTION:
URL:https://qalipu.ca/event/dancers-and-drummers-of-the-new-dawn/
CATEGORIES:General
ATTACH;FMTTYPE=image/jpeg:https://qalipu.ca/qalipu/wp-content/uploads/2017/08/DDOND-Poster.jpg
END:VEVENT
END:VCALENDAR