BEGIN:VCALENDAR
VERSION:2.0
PRODID:-//Qalipu - ECPv4.5.13//NONSGML v1.0//EN
CALSCALE:GREGORIAN
METHOD:PUBLISH
X-WR-CALNAME:Qalipu
X-ORIGINAL-URL:https://qalipu.ca
X-WR-CALDESC:Events for Qalipu
BEGIN:VEVENT
DTSTART;VALUE=DATE:20170321
DTEND;VALUE=DATE:20170322
DTSTAMP:20260420T152444
CREATED:20170307T122613Z
LAST-MODIFIED:20170307T122613Z
UID:6346-1490054400-1490227199@qalipu.ca
SUMMARY:Daniels Symposium
DESCRIPTION:
URL:https://qalipu.ca/event/daniels-symposium/
LOCATION:100 Kent Street\, Ottawa\, Ontario\, K1P 5R7\, Canada
CATEGORIES:General
ATTACH;FMTTYPE=image/jpeg:https://qalipu.ca/qalipu/wp-content/uploads/2017/03/Daniels-Symposium-March-21-22-2017-Invitation-copy-2_Page_1.jpg
END:VEVENT
END:VCALENDAR