BEGIN:VCALENDAR
VERSION:2.0
PRODID:-//Qalipu - ECPv4.5.13//NONSGML v1.0//EN
CALSCALE:GREGORIAN
METHOD:PUBLISH
X-WR-CALNAME:Qalipu
X-ORIGINAL-URL:https://qalipu.ca
X-WR-CALDESC:Events for Qalipu
BEGIN:VEVENT
DTSTART;VALUE=DATE:20181210
DTEND;VALUE=DATE:20181210
DTSTAMP:20260420T053117
CREATED:20181204T111818Z
LAST-MODIFIED:20181204T111818Z
UID:9965-1544400000-1544486399@qalipu.ca
SUMMARY:Deadline: Skills Link "Ready to Work" Program
DESCRIPTION:
URL:https://qalipu.ca/event/deadline-skills-link-ready-to-work-program/
LOCATION:432 Massachusetts Dr\, Stephenville\, NL\, A2N 3C1\, Canada
CATEGORIES:General
ATTACH;FMTTYPE=image/jpeg:https://qalipu.ca/qalipu/wp-content/uploads/2018/12/Skills.jpg
END:VEVENT
END:VCALENDAR