BEGIN:VCALENDAR
VERSION:2.0
PRODID:-//Qalipu - ECPv4.5.13//NONSGML v1.0//EN
CALSCALE:GREGORIAN
METHOD:PUBLISH
X-WR-CALNAME:Qalipu
X-ORIGINAL-URL:https://qalipu.ca
X-WR-CALDESC:Events for Qalipu
BEGIN:VEVENT
DTSTART;TZID=UTC-3.5:20170704T160000
DTEND;TZID=UTC-3.5:20170704T160000
DTSTAMP:20260419T210030
CREATED:20170607T124558Z
LAST-MODIFIED:20170607T124558Z
UID:6859-1499184000-1499184000@qalipu.ca
SUMMARY:Do Not Cross | Status Line
DESCRIPTION:City Hall \nGreen Roof (3rd Floor)\nJuly 4th\n4 PM \n
URL:https://qalipu.ca/event/do-not-cross-status-line/
LOCATION:5 Park St\, Corner Brook\, NL\, A2H 6E1\, Canada
CATEGORIES:General
ATTACH;FMTTYPE=image/jpeg:https://qalipu.ca/qalipu/wp-content/uploads/2017/06/DBQElkXWsAAcF-p.jpg-large.jpg
END:VEVENT
END:VCALENDAR