BEGIN:VCALENDAR
VERSION:2.0
PRODID:-//Qalipu - ECPv4.5.13//NONSGML v1.0//EN
CALSCALE:GREGORIAN
METHOD:PUBLISH
X-WR-CALNAME:Qalipu
X-ORIGINAL-URL:https://qalipu.ca
X-WR-CALDESC:Events for Qalipu
BEGIN:VEVENT
DTSTART;TZID=UTC-3.5:20180310T100000
DTEND;TZID=UTC-3.5:20180310T160000
DTSTAMP:20260419T181712
CREATED:20180223T163444Z
LAST-MODIFIED:20180223T163826Z
UID:8182-1520676000-1520697600@qalipu.ca
SUMMARY:Drop-in and Talk Day
DESCRIPTION:
URL:https://qalipu.ca/event/drop-in-and-talk-day/
LOCATION:183 Main Street\, St. George's\, NL\, Canada
CATEGORIES:General
ATTACH;FMTTYPE=image/jpeg:https://qalipu.ca/qalipu/wp-content/uploads/2018/02/Drop-in-and-Talk-Day-March-2018.jpg
END:VEVENT
END:VCALENDAR