BEGIN:VCALENDAR
VERSION:2.0
PRODID:-//Qalipu - ECPv4.5.13//NONSGML v1.0//EN
CALSCALE:GREGORIAN
METHOD:PUBLISH
X-WR-CALNAME:Qalipu
X-ORIGINAL-URL:https://qalipu.ca
X-WR-CALDESC:Events for Qalipu
BEGIN:VEVENT
DTSTART;TZID=UTC-2.5:20210720T120000
DTEND;TZID=UTC-2.5:20210720T160000
DTSTAMP:20260420T152444
CREATED:20210629T182242Z
LAST-MODIFIED:20210629T182242Z
UID:13947-1626782400-1626796800@qalipu.ca
SUMMARY:Drum Making - St. George's
DESCRIPTION: \n  \nRegistration link: surveymonkey.com/r/SDSN3GH \n
URL:https://qalipu.ca/event/drum-making-st-georges/
CATEGORIES:General
END:VEVENT
END:VCALENDAR