BEGIN:VCALENDAR
VERSION:2.0
PRODID:-//Qalipu - ECPv4.5.13//NONSGML v1.0//EN
CALSCALE:GREGORIAN
METHOD:PUBLISH
X-WR-CALNAME:Qalipu
X-ORIGINAL-URL:https://qalipu.ca
X-WR-CALDESC:Events for Qalipu
BEGIN:VEVENT
DTSTART;TZID=UTC-3.5:20181206T190000
DTEND;TZID=UTC-3.5:20181206T190000
DTSTAMP:20260420T053805
CREATED:20181203T170642Z
LAST-MODIFIED:20181203T170642Z
UID:9961-1544122800-1544122800@qalipu.ca
SUMMARY:Elder's Game Night - Benoit 1st Nation
DESCRIPTION:
URL:https://qalipu.ca/event/elders-game-night-benoit-1st-nation/
LOCATION:811 Oceanview Drive\, Degrau\, NL\, A0N 1T1\, Canada
CATEGORIES:General
ATTACH;FMTTYPE=image/jpeg:https://qalipu.ca/qalipu/wp-content/uploads/2018/12/41725371_2213011252308485_3821620182963453952_n.jpg
END:VEVENT
END:VCALENDAR