BEGIN:VCALENDAR
VERSION:2.0
PRODID:-//Qalipu - ECPv4.5.13//NONSGML v1.0//EN
CALSCALE:GREGORIAN
METHOD:PUBLISH
X-WR-CALNAME:Qalipu
X-ORIGINAL-URL:https://qalipu.ca
X-WR-CALDESC:Events for Qalipu
BEGIN:VEVENT
DTSTART;TZID=UTC-3.5:20190130T180000
DTEND;TZID=UTC-3.5:20190130T180000
DTSTAMP:20260419T223031
CREATED:20190123T141515Z
LAST-MODIFIED:20190123T141531Z
UID:10135-1548871200-1548871200@qalipu.ca
SUMMARY:Elder's Game Night - Benoit First Nation Elders Council
DESCRIPTION:
URL:https://qalipu.ca/event/elders-game-night-benoit-first-nation-elders-council-2/
LOCATION:811 Oceanview Drive\, Degrau\, NL\, A0N 1T1\, Canada
CATEGORIES:General
ATTACH;FMTTYPE=image/jpeg:https://qalipu.ca/qalipu/wp-content/uploads/2019/01/41725371_2213011252308485_3821620182963453952_n.jpg
END:VEVENT
END:VCALENDAR