BEGIN:VCALENDAR
VERSION:2.0
PRODID:-//Qalipu - ECPv4.5.13//NONSGML v1.0//EN
CALSCALE:GREGORIAN
METHOD:PUBLISH
X-WR-CALNAME:Qalipu
X-ORIGINAL-URL:https://qalipu.ca
X-WR-CALDESC:Events for Qalipu
BEGIN:VEVENT
DTSTART;VALUE=DATE:20170611
DTEND;VALUE=DATE:20170611
DTSTAMP:20260420T022202
CREATED:20170526T131702Z
LAST-MODIFIED:20170526T131702Z
UID:6760-1497139200-1497225599@qalipu.ca
SUMMARY:Empowering the Real Me - Benoit's Cove
DESCRIPTION:
URL:https://qalipu.ca/event/empowering-the-real-me-benoits-cove/
CATEGORIES:General
ATTACH;FMTTYPE=image/jpeg:https://qalipu.ca/qalipu/wp-content/uploads/2017/05/Workshop-Poster.jpg
END:VEVENT
END:VCALENDAR