BEGIN:VCALENDAR
VERSION:2.0
PRODID:-//Qalipu - ECPv4.5.13//NONSGML v1.0//EN
CALSCALE:GREGORIAN
METHOD:PUBLISH
X-WR-CALNAME:Qalipu
X-ORIGINAL-URL:https://qalipu.ca
X-WR-CALDESC:Events for Qalipu
BEGIN:VEVENT
DTSTART;VALUE=DATE:20170624
DTEND;VALUE=DATE:20170624
DTSTAMP:20260420T004104
CREATED:20170526T131903Z
LAST-MODIFIED:20170526T131903Z
UID:6762-1498262400-1498348799@qalipu.ca
SUMMARY:Empowering the Real Me - St. George's
DESCRIPTION:
URL:https://qalipu.ca/event/empowering-the-real-me-st-georges/
CATEGORIES:General
ATTACH;FMTTYPE=image/jpeg:https://qalipu.ca/qalipu/wp-content/uploads/2017/05/Workshop-Poster.jpg
END:VEVENT
END:VCALENDAR