BEGIN:VCALENDAR
VERSION:2.0
PRODID:-//Qalipu - ECPv4.5.13//NONSGML v1.0//EN
CALSCALE:GREGORIAN
METHOD:PUBLISH
X-WR-CALNAME:Qalipu
X-ORIGINAL-URL:https://qalipu.ca
X-WR-CALDESC:Events for Qalipu
BEGIN:VEVENT
DTSTART;VALUE=DATE:20170927
DTEND;VALUE=DATE:20170927
DTSTAMP:20260419T230442
CREATED:20170906T113124Z
LAST-MODIFIED:20170906T113834Z
UID:7254-1506470400-1506556799@qalipu.ca
SUMMARY:End Elder Abuse - Let's Talk! Gander
DESCRIPTION:
URL:https://qalipu.ca/event/end-elder-abuse-lets-talk-gander/
CATEGORIES:General
ATTACH;FMTTYPE=image/jpeg:https://qalipu.ca/qalipu/wp-content/uploads/2017/09/Elder-Abuse-2017-poster.jpg
END:VEVENT
END:VCALENDAR