BEGIN:VCALENDAR
VERSION:2.0
PRODID:-//Qalipu - ECPv4.5.13//NONSGML v1.0//EN
CALSCALE:GREGORIAN
METHOD:PUBLISH
X-WR-CALNAME:Qalipu
X-ORIGINAL-URL:https://qalipu.ca
X-WR-CALDESC:Events for Qalipu
BEGIN:VEVENT
DTSTART;VALUE=DATE:20171005
DTEND;VALUE=DATE:20171005
DTSTAMP:20260419T231045
CREATED:20170906T113803Z
LAST-MODIFIED:20170906T113803Z
UID:7263-1507161600-1507247999@qalipu.ca
SUMMARY:End Elder Abuse - Lets Talk! Stephenville
DESCRIPTION:
URL:https://qalipu.ca/event/end-elder-abuse-lets-talk-stephenville/
CATEGORIES:General
ATTACH;FMTTYPE=image/jpeg:https://qalipu.ca/qalipu/wp-content/uploads/2017/09/Elder-Abuse-2017-poster.jpg
END:VEVENT
END:VCALENDAR