BEGIN:VCALENDAR
VERSION:2.0
PRODID:-//Qalipu - ECPv4.5.13//NONSGML v1.0//EN
CALSCALE:GREGORIAN
METHOD:PUBLISH
X-WR-CALNAME:Qalipu
X-ORIGINAL-URL:https://qalipu.ca
X-WR-CALDESC:Events for Qalipu
BEGIN:VEVENT
DTSTART;TZID=UTC-3.5:20170219T190000
DTEND;TZID=UTC-3.5:20170219T190000
DTSTAMP:20260420T213008
CREATED:20170214T184628Z
LAST-MODIFIED:20170214T184628Z
UID:6145-1487530800-1487530800@qalipu.ca
SUMMARY:End of Enrollment Community Sessions - Benoits Cove
DESCRIPTION:Located at the Benoits Cove town hall \n
URL:https://qalipu.ca/event/end-of-enrollment-community-sessions-benoits-cove/
CATEGORIES:General
ATTACH;FMTTYPE=image/jpeg:https://qalipu.ca/qalipu/wp-content/uploads/2016/08/meeting.jpeg
END:VEVENT
END:VCALENDAR