BEGIN:VCALENDAR
VERSION:2.0
PRODID:-//Qalipu - ECPv4.5.13//NONSGML v1.0//EN
CALSCALE:GREGORIAN
METHOD:PUBLISH
X-WR-CALNAME:Qalipu
X-ORIGINAL-URL:https://qalipu.ca
X-WR-CALDESC:Events for Qalipu
BEGIN:VEVENT
DTSTART;TZID=UTC-3.5:20170307T190000
DTEND;TZID=UTC-3.5:20170307T190000
DTSTAMP:20260420T111522
CREATED:20170217T151331Z
LAST-MODIFIED:20170217T151331Z
UID:6190-1488913200-1488913200@qalipu.ca
SUMMARY:End of Enrolment Community Sessions - Burgeo
DESCRIPTION:Jolly 50 Plus Club\nMain Street \n
URL:https://qalipu.ca/event/end-of-enrolment-community-sessions-burgeo/
CATEGORIES:General
ATTACH;FMTTYPE=image/jpeg:https://qalipu.ca/qalipu/wp-content/uploads/2016/08/meeting.jpeg
END:VEVENT
END:VCALENDAR