BEGIN:VCALENDAR
VERSION:2.0
PRODID:-//Qalipu - ECPv4.5.13//NONSGML v1.0//EN
CALSCALE:GREGORIAN
METHOD:PUBLISH
X-WR-CALNAME:Qalipu
X-ORIGINAL-URL:https://qalipu.ca
X-WR-CALDESC:Events for Qalipu
BEGIN:VEVENT
DTSTART;TZID=UTC-3.5:20170227T190000
DTEND;TZID=UTC-3.5:20170227T190000
DTSTAMP:20260420T213926
CREATED:20170217T151029Z
LAST-MODIFIED:20170217T151029Z
UID:6186-1488222000-1488222000@qalipu.ca
SUMMARY:End of Enrolment Community Sessions - Corner Brook
DESCRIPTION:Pepsi Centre (Room 2) \n
URL:https://qalipu.ca/event/end-of-enrolment-community-sessions-corner-brook/
CATEGORIES:General
ATTACH;FMTTYPE=image/jpeg:https://qalipu.ca/qalipu/wp-content/uploads/2016/08/meeting.jpeg
END:VEVENT
END:VCALENDAR